BEGIN:VCALENDAR
VERSION:2.0
PRODID:-//AFA Montserrat - ECPv6.15.17.1//NONSGML v1.0//EN
CALSCALE:GREGORIAN
METHOD:PUBLISH
X-WR-CALNAME:AFA Montserrat
X-ORIGINAL-URL:https://www.afamontserrat.es
X-WR-CALDESC:Eventos para AFA Montserrat
REFRESH-INTERVAL;VALUE=DURATION:PT1H
X-Robots-Tag:noindex
X-PUBLISHED-TTL:PT1H
BEGIN:VTIMEZONE
TZID:UTC
BEGIN:STANDARD
TZOFFSETFROM:+0000
TZOFFSETTO:+0000
TZNAME:UTC
DTSTART:20240101T000000
END:STANDARD
END:VTIMEZONE
BEGIN:VEVENT
DTSTART;TZID=UTC:20251128T160000
DTEND;TZID=UTC:20251128T180000
DTSTAMP:20260425T121324
CREATED:20251118T221925Z
LAST-MODIFIED:20251126T200833Z
UID:932-1764345600-1764352800@www.afamontserrat.es
SUMMARY:Reunión Familias ACNEAE
DESCRIPTION:Estimadas familias\, \nDentro de nuestro propósito de realizar una actividad trimestral\, para este primer trimestre hemos planificado una reunión de grupo con el siguiente objetivo: \n\nConocernos\, hay mucha gente nueva.\nContarnos cómo estamos en el cole\, qué necesidades tenemos.\n¿Qué cambios hemos notado en los últimos cursos respecto del cole ? (si tenemos perspectiva).\n\nProponemos vernos presencialmente. \n\nDía: 28 de noviembre.\nHora: 16.15-18.00h\nLugar: aula 1º Eso C en el primer piso del edificio de Juan Esplandiú ( edificio de abajo)\nINSCRIPCIONES AQUÍ\n\n  \nDESCUBRE AQUÍ MÁS SOBRE «FAMILIAS ACNEAE» \nOs recordamos que podéis solicitar en el colegio el servicio de «Las tardes del cole» gratuito para ese día.  \n¿CÓMO SOLICITAR EL SERVICIO? \nEs imprescindible registrarse a través de ESTE FORMULARIO antes de las 12:00 a.m. del día anterior a la reunión\, indicando en el campo de observaciones “Reunión Familias ACNEAE-AFA”. En el caso de hacer uso de este servicio sin haber realizado la reserva en plazo\, el coste del mismo será cargado como día suelto en la siguiente remesa de recibos a emitir. \n  \n¡Os esperamos a todas y todos! \n  \nLa Junta de la  AFA
URL:https://www.afamontserrat.es/event/reunion-familias-acneae/
CATEGORIES:Acneae
ATTACH;FMTTYPE=image/jpeg:https://www.afamontserrat.es/wp-content/uploads/2025/11/Multinational-crowd-of-people-standing-together-scaled.jpg
END:VEVENT
END:VCALENDAR