BEGIN:VCALENDAR
VERSION:2.0
PRODID:-//AFA Montserrat - ECPv6.15.17.1//NONSGML v1.0//EN
CALSCALE:GREGORIAN
METHOD:PUBLISH
X-ORIGINAL-URL:https://www.afamontserrat.es
X-WR-CALDESC:Eventos para AFA Montserrat
REFRESH-INTERVAL;VALUE=DURATION:PT1H
X-Robots-Tag:noindex
X-PUBLISHED-TTL:PT1H
BEGIN:VTIMEZONE
TZID:UTC
BEGIN:STANDARD
TZOFFSETFROM:+0000
TZOFFSETTO:+0000
TZNAME:UTC
DTSTART:20240101T000000
END:STANDARD
END:VTIMEZONE
BEGIN:VEVENT
DTSTART;TZID=UTC:20251204T160000
DTEND;TZID=UTC:20251204T170000
DTSTAMP:20260425T105641
CREATED:20251121T103644Z
LAST-MODIFIED:20251202T150052Z
UID:1128-1764864000-1764867600@www.afamontserrat.es
SUMMARY:Charla del Dpto. de Orientación sobre «El Cole y la Diversidad en el Aprendizaje»
DESCRIPTION:¡Buenas noticias\, familias! \nDesde el grupo de familias ACNEAE de la AFA hemos conseguido que el próximo 4 de diciembre el Departamento de Orientación ofrezca una CHARLA DIRIGIDA A TODAS LAS FAMILIAS DEL CENTRO. En esta sesión\, las cuatro orientadoras que atienden los distintos ciclos explicarán cómo funciona el departamento\, qué apoyos ofrecen y cuáles son los recursos disponibles. \nEste evento busca poner en valor el compromiso del centro con la inclusión\, así como la dedicación del profesorado y de los especialistas que trabajan día a día para que cada alumno y alumna pueda desarrollar su máximo potencial: los procesos de apoyo\, seguimiento y coordinación de los especialistas y profesorado que trabajan en el centro. Será una oportunidad para compartir experiencias\, resolver dudas y reforzar el vínculo entre familias\, docentes y alumnado\, construyendo juntos un entorno educativo más accesible\, participativo y enriquecedor para todos. \nOs invitamos a asistir y a aprovechar esta oportunidad para conocer de primera mano el trabajo que se realiza y resolver cualquier duda. \nTEMÁTICA: “La diversidad en el Montse” \nDÍA: 4 de diciembre \nHORA: entre las 16:15 y las 17:45 \nLUGAR: sala de profesores (Edificio de la Calle Juan de Esplandiú) \nOs recordamos que podéis solicitar en el colegio el servicio de «Las tardes del cole» gratuito para ese día.  \n¿CÓMO SOLICITAR EL SERVICIO? \nEs imprescindible registrarse a través de ESTE FORMULARIO antes de las 12:00 a.m. del día anterior a la reunión\, indicando en el campo de observaciones “Reunión Dpto. Orientación con Familias”. En el caso de hacer uso de este servicio sin haber realizado la reserva en plazo\, el coste del mismo será cargado como día suelto en la siguiente remesa de recibos a emitir. \n  \n¡Os esperamos a todas y todos! \n  \nLa Junta de la  AFA
URL:https://www.afamontserrat.es/event/charla-del-dpto-de-orientacion-sobre-el-cole-y-la-diversidad-en-el-aprendizaje/
CATEGORIES:Acneae
ATTACH;FMTTYPE=image/jpeg:https://www.afamontserrat.es/wp-content/uploads/2025/11/4295312-scaled.jpg
END:VEVENT
END:VCALENDAR