BEGIN:VCALENDAR
VERSION:2.0
PRODID:-//AFA Montserrat - ECPv6.15.17.1//NONSGML v1.0//EN
CALSCALE:GREGORIAN
METHOD:PUBLISH
X-WR-CALNAME:AFA Montserrat
X-ORIGINAL-URL:https://www.afamontserrat.es
X-WR-CALDESC:Eventos para AFA Montserrat
REFRESH-INTERVAL;VALUE=DURATION:PT1H
X-Robots-Tag:noindex
X-PUBLISHED-TTL:PT1H
BEGIN:VTIMEZONE
TZID:UTC
BEGIN:STANDARD
TZOFFSETFROM:+0000
TZOFFSETTO:+0000
TZNAME:UTC
DTSTART:20240101T000000
END:STANDARD
END:VTIMEZONE
BEGIN:VEVENT
DTSTART;TZID=UTC:20251005T103000
DTEND;TZID=UTC:20251005T170000
DTSTAMP:20260423T113754
CREATED:20250927T115021Z
LAST-MODIFIED:20251118T222015Z
UID:394-1759660200-1759683600@www.afamontserrat.es
SUMMARY:Ruta Laguna Grande
DESCRIPTION:Estimadas familias\,\n \n¡Arrancamos el curso con la primera propuesta del Club de Senderismo! ¡Ruta a la Laguna Grande de Peñalara!\n \nNuestro coordinador David nos propone realizar una ruta circular empezando en el Parking del Puerto de Cotos\, ascendiendo por la Laguna Chica hasta llegar la Laguna Grande. Los detalles los encontraréis en el PDF adjunto. Como siempre\, hemos creado un grupo de WhatsApp para la excursión que se destruirá una vez concluida la misma. Podéis uniros a través de este link.\n\n\nSe ruega estricta puntualidad para no retrasar al grupo. Salida 10:30 del Parking del Puerto de Cotos.. \n\nTambién queremos recordaros que como otros años\, la participación de las familias es fundamental y sobre todo muy bienvenida\, el funcionamiento del club de senderismo consiste en que cada excursión es organizada por un coordinador o coordinadora que conoce el terreno y elabora la ficha. El año pasado tuvimos la suerte de contar con un montón de madres y padres voluntarias que nos hicieron el camino muy agradable. Es una tarea sencilla y gratificadora\, que se puede llevar a cabo una única vez en el curso escolar.\n\n\nEstamos buscando sangre nueva que se anime este año a colaborar con el club. Por favor\, si tienes interés en colaborar\, ¡¡escríbenos y te pondremos en contacto con nuestro coordinador experto!! ¡¡Te ayudará a montar la ruta que quieras compartir!!\n\nMuchas gracias\,\n\n\n\n\n\n\n\n\n\n\n\n\n\n\n\n🌳 Grupo Senderismo AFA Montserrat 🌳\n\nRuta colegio Laguna Grande de Peñalara
URL:https://www.afamontserrat.es/event/ruta-laguna-grande-de-penalara/
LOCATION:Parking del puerto de Cotos
CATEGORIES:Senderismo
ATTACH;FMTTYPE=image/jpeg:https://www.afamontserrat.es/wp-content/uploads/2025/09/2417270Master.jpg
END:VEVENT
END:VCALENDAR